BEGIN:VCALENDAR
VERSION:2.0
PRODID:-//ASIAR - ECPv6.0.13.1//NONSGML v1.0//EN
CALSCALE:GREGORIAN
METHOD:PUBLISH
X-ORIGINAL-URL:https://asiar.hku.hk
X-WR-CALDESC:Events for ASIAR
REFRESH-INTERVAL;VALUE=DURATION:PT1H
X-Robots-Tag:noindex
X-PUBLISHED-TTL:PT1H
BEGIN:VTIMEZONE
TZID:Asia/Hong_Kong
BEGIN:STANDARD
TZOFFSETFROM:+0800
TZOFFSETTO:+0800
TZNAME:HKT
DTSTART:20230101T000000
END:STANDARD
END:VTIMEZONE
BEGIN:VEVENT
DTSTART;TZID=Asia/Hong_Kong:20230327T093000
DTEND;TZID=Asia/Hong_Kong:20230327T110000
DTSTAMP:20260420T044405
CREATED:20230313T095320Z
LAST-MODIFIED:20231102T045544Z
UID:7344-1679909400-1679914800@asiar.hku.hk
SUMMARY:The Belt and Road Initiative and Spirit Mediums: The Lower Sesan 2 Dam and Sacred Space in Northeastern Cambodia
DESCRIPTION:The Belt and Road Initiative and Spirit Mediums: The Lower Sesan 2 Dam and Sacred Space in Northeastern Cambodia\nABSTRACTThe Lower Sesan 2 Dam (LS2) is the largest and most controversial hydropower dam ever developed in Cambodia. The 400 MW capacity project\, which blocks both the Sesan and Srepok Rivers in Stung Treng Province\, northeastern Cambodia\, was only completed by a Chinese company\, Hydrolancang International Energy Company\, in 2018\, as part of the Belt and Road Initiative (BRI). Here\, I consider the relationship between LS2 and sacred spaces of rural ethnic Lao people\, including how spirit mediums and the associated belief systems of local people have been impacted by LS2. Female spirit mediums have contested the LS2 since before its construction began\, and have also been directly affected by the dam. Adopting a feminist political approach\, the argument is that apart from having potentially important material impacts\, dams such as LS2 also serve to alter nature-society relations through variously affecting spirit mediums\, their practices\, and beliefs associated with spirits.\n  \nABOUT THE SPEAKERDr. Ian G. Baird is a Professor of Geography and Southeast Asian Studies at the University of Wisconsin-Madison. Most of work relates to political ecology and Laos\, Cambodia and Thailand. His most recent book is Rise of the Brao: Ethnic Minorities in Northeastern Cambodia during Vietnamese Occupation (University of Wisconsin Press\, 2020).\nORGANIZER\nOrganizer: ASIAR Research Cluster\, HKIHSS\, under the CRF Project “Infrastructures of Faith: Religious Mobilities on the Belt and Road [BRINFAITH]” (RGC CRF HKU C7052-18G)
URL:https://asiar.hku.hk/event/the-belt-and-road-initiative-and-spirit-mediums-the-lower-sesan-2-dam-and-sacred-space-in-northeastern-cambodia/
LOCATION:Via Zoom (Registration required)
CATEGORIES:BRINFAITH
ATTACH;FMTTYPE=image/jpeg:https://asiar.hku.hk/wp-content/uploads/2023/03/Ian_poster_1920x1611.jpg
END:VEVENT
END:VCALENDAR